BEGIN:VCALENDAR
VERSION:2.0
PRODID:-//Federación de Taekwondo y Hapkido de Castilla y León - ECPv6.15.19//NONSGML v1.0//EN
CALSCALE:GREGORIAN
METHOD:PUBLISH
X-ORIGINAL-URL:https://taekwondocyl.com
X-WR-CALDESC:Eventos para Federación de Taekwondo y Hapkido de Castilla y León
REFRESH-INTERVAL;VALUE=DURATION:PT1H
X-Robots-Tag:noindex
X-PUBLISHED-TTL:PT1H
BEGIN:VTIMEZONE
TZID:Europe/Paris
BEGIN:DAYLIGHT
TZOFFSETFROM:+0100
TZOFFSETTO:+0200
TZNAME:CEST
DTSTART:20210328T010000
END:DAYLIGHT
BEGIN:STANDARD
TZOFFSETFROM:+0200
TZOFFSETTO:+0100
TZNAME:CET
DTSTART:20211031T010000
END:STANDARD
BEGIN:DAYLIGHT
TZOFFSETFROM:+0100
TZOFFSETTO:+0200
TZNAME:CEST
DTSTART:20220327T010000
END:DAYLIGHT
BEGIN:STANDARD
TZOFFSETFROM:+0200
TZOFFSETTO:+0100
TZNAME:CET
DTSTART:20221030T010000
END:STANDARD
BEGIN:DAYLIGHT
TZOFFSETFROM:+0100
TZOFFSETTO:+0200
TZNAME:CEST
DTSTART:20230326T010000
END:DAYLIGHT
BEGIN:STANDARD
TZOFFSETFROM:+0200
TZOFFSETTO:+0100
TZNAME:CET
DTSTART:20231029T010000
END:STANDARD
BEGIN:DAYLIGHT
TZOFFSETFROM:+0100
TZOFFSETTO:+0200
TZNAME:CEST
DTSTART:20240331T010000
END:DAYLIGHT
BEGIN:STANDARD
TZOFFSETFROM:+0200
TZOFFSETTO:+0100
TZNAME:CET
DTSTART:20241027T010000
END:STANDARD
BEGIN:DAYLIGHT
TZOFFSETFROM:+0100
TZOFFSETTO:+0200
TZNAME:CEST
DTSTART:20250330T010000
END:DAYLIGHT
BEGIN:STANDARD
TZOFFSETFROM:+0200
TZOFFSETTO:+0100
TZNAME:CET
DTSTART:20251026T010000
END:STANDARD
BEGIN:DAYLIGHT
TZOFFSETFROM:+0100
TZOFFSETTO:+0200
TZNAME:CEST
DTSTART:20260329T010000
END:DAYLIGHT
BEGIN:STANDARD
TZOFFSETFROM:+0200
TZOFFSETTO:+0100
TZNAME:CET
DTSTART:20261025T010000
END:STANDARD
END:VTIMEZONE
BEGIN:VEVENT
DTSTART;VALUE=DATE:20250405
DTEND;VALUE=DATE:20250406
DTSTAMP:20260422T171822
CREATED:20250310T111239Z
LAST-MODIFIED:20250310T111239Z
UID:1842-1743811200-1743897599@taekwondocyl.com
SUMMARY:
DESCRIPTION:CURSO DE ARBITRAJE Y EXAMEN  DE JUEZ CRONOMETRADOR – ARBITRO NIVEL I Y ARBITRO NIVEL II \nFecha: 05 de abril de 2025 \nLugar y Horario: CEAR Río Esgueva- Cº del Cementerio s/n- Valladolid – de 10 a 14 horas \nInscripciones: Se remitirán por correo electrónico a secretaria@taekwondocyl.com como último día el 25 de marzo. \nTodos los árbitros ya titulados\, que deseen reciclarse podrán asistir al curso; el reciclaje será gratuito para los que estén colegiados actualmente\, para los que no estén colegiados la cuota será de 35€ \nCURSO DE ARBITRAJE DE JUEZ DE MESA – JUEZ PUNTUADOR NIVEL I  Y JUEZ PUNTUADOR NIVEL II  \nFecha: 05 de abril de 2025 \nLugar y Horario: CEAR Río Esgueva- Cº del Cementerio s/n- Valladolid – de 16 a 19 horas \nInscripciones: Se remitirán por correo electrónico a secretaria@taekwondocyl.com como último día el 25 de marzo \nTodos los jueces ya titulados\, que deseen reciclarse podrán asistir al curso\, el reciclaje será gratuito para los que estén colegiados actualmente\, para los que no estén colegiados la cuota será de 35 €.
URL:https://taekwondocyl.com/evento/1842/
CATEGORIES:Actividades
END:VEVENT
BEGIN:VEVENT
DTSTART;VALUE=DATE:20250329
DTEND;VALUE=DATE:20250330
DTSTAMP:20260422T171822
CREATED:20250310T110055Z
LAST-MODIFIED:20250310T110209Z
UID:1835-1743206400-1743292799@taekwondocyl.com
SUMMARY:SEMINARIO MOO DO
DESCRIPTION:2025 03 29 Info Seminario
URL:https://taekwondocyl.com/evento/seminario-moo-do/
CATEGORIES:Actividades
ATTACH;FMTTYPE=application/pdf:https://taekwondocyl.com/wp-content/uploads/2025/03/2025-03-29-Info-Seminario-2.pdf
END:VEVENT
BEGIN:VEVENT
DTSTART;TZID=Europe/Paris:20250301T083000
DTEND;TZID=Europe/Paris:20250301T143000
DTSTAMP:20260422T171822
CREATED:20250128T095722Z
LAST-MODIFIED:20250128T095722Z
UID:1806-1740817800-1740839400@taekwondocyl.com
SUMMARY:CAMPEONATOS DE CASTILLA Y LEON JUNIOR Y CADETE DE COMBATE
DESCRIPTION:FECHA: 01 de marzo de 2025\nPESAJE: 08:30 horas en el pabellón.\nCOMPETICIÓN: 09:30h.\nLUGAR: Polideportivo Los Rosales – C. Antonio Machado\, s/n\, 49600 Benavente\, Zamora
URL:https://taekwondocyl.com/evento/campeonatos-de-castilla-y-leon-junior-y-cadete-de-combate/
LOCATION:POLIDEPORTIVO LOS ROSALES BENAVENTE\, POLIDEPORTIVO LOS ROSALES\, BENAVENTE\, 49600
CATEGORIES:Campeonatos
ATTACH;FMTTYPE=image/png:https://taekwondocyl.com/wp-content/uploads/2022/11/FEDERACION-TAEKWONDO_LOGO-NUEVO.png
END:VEVENT
BEGIN:VEVENT
DTSTART;TZID=Europe/Paris:20241214T100000
DTEND;TZID=Europe/Paris:20241214T130000
DTSTAMP:20260422T171822
CREATED:20241204T081124Z
LAST-MODIFIED:20241204T081124Z
UID:1792-1734170400-1734181200@taekwondocyl.com
SUMMARY:EXAMENES DE CINTURONES NEGROS 1er\, 2º\, 3º\, 4º y 5º DAN  -  1er\, 2º y 3º PUM
DESCRIPTION:FECHA: 14 de diciembre de 2024 \nLUGAR:  Polideportivo Canterac – Paseo de Juan Carlos I\, 16 – 47013 Valladolid \nHORARIO: Inicio a las 10.00 horas. \nINSCRIPCIONES: Se remitirán por correo electrónico a secretaria@taekwondocyl.com\, como último día el 04 de diciembre.
URL:https://taekwondocyl.com/evento/examenes-de-cinturones-negros-1er-2o-3o-4o-y-5o-dan-1er-2o-y-3o-pum-2/
CATEGORIES:Actividades
END:VEVENT
BEGIN:VEVENT
DTSTART;VALUE=DATE:20241123
DTEND;VALUE=DATE:20241124
DTSTAMP:20260422T171822
CREATED:20241018T111015Z
LAST-MODIFIED:20241018T111015Z
UID:1773-1732320000-1732406399@taekwondocyl.com
SUMMARY:XXXVIIII OPEN NACIONAL “CIUDAD DE MIRANDA DE EBRO"
DESCRIPTION:OPEN DE MIRANDA DE EBRO
URL:https://taekwondocyl.com/evento/xxxviiii-open-nacional-ciudad-de-miranda-de-ebro/
CATEGORIES:Campeonatos
ATTACH;FMTTYPE=image/jpeg:https://taekwondocyl.com/wp-content/uploads/2024/10/cartel-miranda-de-ebro.jpg
END:VEVENT
BEGIN:VEVENT
DTSTART;TZID=Europe/Paris:20240629T100000
DTEND;TZID=Europe/Paris:20240629T140000
DTSTAMP:20260422T171822
CREATED:20240606T074056Z
LAST-MODIFIED:20240606T074056Z
UID:1675-1719655200-1719669600@taekwondocyl.com
SUMMARY:EXAMENES DE CINTURONES NEGROS 1er\, 2º\, 3º\, 4º y 5º DAN  -  1er\, 2º y 3º PUM
DESCRIPTION:FECHA: 29 de junio de 2024 \nLUGAR: VALLADOLID \nHORARIO: Inicio a las 10.00 horas. \nINSCRIPCIONES: Se remitirán por correo electrónico a secretaria@taekwondocyl.com\, como último día el 18 de junio.
URL:https://taekwondocyl.com/evento/examenes-de-cinturones-negros-1er-2o-3o-4o-y-5o-dan-1er-2o-y-3o-pum/
CATEGORIES:Actividades
ATTACH;FMTTYPE=image/png:https://taekwondocyl.com/wp-content/uploads/2022/05/EXAMEN-CINTURON-NEGRO.png
END:VEVENT
BEGIN:VEVENT
DTSTART;TZID=Europe/Paris:20240615T160000
DTEND;TZID=Europe/Paris:20240615T203000
DTSTAMP:20260422T171822
CREATED:20240606T075051Z
LAST-MODIFIED:20240606T075051Z
UID:1681-1718467200-1718483400@taekwondocyl.com
SUMMARY:CAMPEONATOS DE PUMSE INFANTIL Y PROMOCIÓN ADULTO DE CASTILLA Y LEÓN
DESCRIPTION:FECHA: 15 de Junio de 2024 \nHORARIO: 16.00 horas \nLUGAR: Polideportivo Municipal de Renedo de Esgueva (Valladolid) \n 
URL:https://taekwondocyl.com/evento/campeonatos-de-pumse-infantil-y-promocion-adulto-de-castilla-y-leon/
CATEGORIES:Campeonatos
ATTACH;FMTTYPE=image/png:https://taekwondocyl.com/wp-content/uploads/2022/11/FEDERACION-TAEKWONDO_LOGO-NUEVO.png
END:VEVENT
BEGIN:VEVENT
DTSTART;TZID=Europe/Paris:20240601T160000
DTEND;TZID=Europe/Paris:20240601T190000
DTSTAMP:20260422T171822
CREATED:20240520T111532Z
LAST-MODIFIED:20240520T111532Z
UID:1662-1717257600-1717268400@taekwondocyl.com
SUMMARY:CAMPEONATO DE CASTILLA Y LEÓN CADETE DE COMBATE
DESCRIPTION:FECHA: 01 de Junio de 2024 \nHORARIO: de 16:00 a 19:00 \nLUGAR: Polideportivo de Mojados (Valladolid) \n PESAJE: 15:00 horas en el pabellón (también podrán pesarse de 09:00 a 09:30)
URL:https://taekwondocyl.com/evento/campeonato-de-castilla-y-leon-cadete-de-combate/
LOCATION:polideportivo mojados valladolid\, https://www.google.com/maps/place//data=!4m2!3m1!1s0xd47394ab6fecef9:0xbdd2f1115e825081?sa=X&ved=1t:8290&ictx=111\, mojados\, 47250\, España
CATEGORIES:Campeonatos
ATTACH;FMTTYPE=image/jpeg:https://taekwondocyl.com/wp-content/uploads/2024/05/CARTEL-MOJADOS.jpg
END:VEVENT
BEGIN:VEVENT
DTSTART;TZID=Europe/Paris:20240601T100000
DTEND;TZID=Europe/Paris:20240601T130000
DTSTAMP:20260422T171822
CREATED:20240520T112031Z
LAST-MODIFIED:20240520T112611Z
UID:1668-1717236000-1717246800@taekwondocyl.com
SUMMARY:CAMPEONATO DE CASTILLA Y LEÓN INFANTIL DE COMBATE
DESCRIPTION:FECHA: 01 de JUNIO 2024 \nLUGAR: Polideportivo de Mojados (Valladolid) \nPESAJE: 09:00 horas en el pabellón \nCOMPETICIÓN: 10:00 h.
URL:https://taekwondocyl.com/evento/campeonato-de-castilla-y-leon-infantil-de-combate/
CATEGORIES:Campeonatos
ATTACH;FMTTYPE=image/jpeg:https://taekwondocyl.com/wp-content/uploads/2024/05/CARTEL-MOJADOS.jpg
END:VEVENT
BEGIN:VEVENT
DTSTART;TZID=Europe/Paris:20240519T100000
DTEND;TZID=Europe/Paris:20240519T140000
DTSTAMP:20260422T171822
CREATED:20240430T093718Z
LAST-MODIFIED:20240430T093718Z
UID:1653-1716112800-1716127200@taekwondocyl.com
SUMMARY:SEMINARIO DE ACTUALIZACIÓN DE TÉCNICA Y PUMSE Y PREPARACIÓN PARA EXAMEN DE CINTO NEGRO
DESCRIPTION:Dirigido a: \n\nDeportistas a partir de cinturón AZUL hasta 5º DAN\n\nFECHA: 19 de mayo de 2024 \nHORARIO: De 10 a 14 horas \nLUGAR: GIMNASIO POLIDEPORTIVO LALO GARCÍA C. de Enrique Cubero\, 7\, 47014 Valladolid– Parquesol \nINSCRIPCIONES: Se remitirán por correo electrónico a secretaria@taekwondocyl.com\, como último día el 10 de mayo de 2024
URL:https://taekwondocyl.com/evento/seminario-de-actualizacion-de-tecnica-y-pumse-y-preparacion-para-examen-de-cinto-negro/
LOCATION:POLIDEPORTIVO LALO GARCIA VALLADOLID\, C. de Enrique Cubero\, 7\, Valladolid\, Valladolid\, 47014\, España
CATEGORIES:Actividades
ATTACH;FMTTYPE=image/webp:https://taekwondocyl.com/wp-content/uploads/2022/11/depositphotos_5052112-stock-photo-in-a-gym-in-martial.webp
END:VEVENT
BEGIN:VEVENT
DTSTART;TZID=Europe/Paris:20240518T160000
DTEND;TZID=Europe/Paris:20240518T190000
DTSTAMP:20260422T171822
CREATED:20240430T092042Z
LAST-MODIFIED:20240430T092042Z
UID:1644-1716048000-1716058800@taekwondocyl.com
SUMMARY:CURSO DE ARBITRAJE DE JUECES DE MESA - JUECES P. REGIONALES Y JUECES P. NACIONALES DE TÉCNICA Y PUMSE
DESCRIPTION:Fecha: 18 de mayo de 2024 \nLugar y Horario: CEAR Río Esgueva- Cº del Cementerio s/n- Valladolid – de 16 a 19 horas \nInscripciones: Se remitirán por correo electrónico a secretaria@taekwondocyl.com como último día el 09 de mayo.  \nNOTA: Todos los jueces ya titulados\, que deseen reciclarse podrán asistir al curso\, el reciclaje será gratuito para los que estén colegiados actualmente\, para los que no estén colegiados la cuota será de 25 €.
URL:https://taekwondocyl.com/evento/curso-de-arbitraje-de-jueces-de-mesa-jueces-p-regionales-y-jueces-p-nacionales-de-tecnica-y-pumse/
LOCATION:CEAR Río Esgueva\, Cº del Cementerio s/n\, VALLADOLID\, Valladolid\, España
CATEGORIES:Actividades
ATTACH;FMTTYPE=image/png:https://taekwondocyl.com/wp-content/uploads/2022/11/FEDERACION-TAEKWONDO_LOGO-NUEVO.png
END:VEVENT
BEGIN:VEVENT
DTSTART;TZID=Europe/Paris:20240518T100000
DTEND;TZID=Europe/Paris:20240518T140000
DTSTAMP:20260422T171822
CREATED:20240430T085920Z
LAST-MODIFIED:20240430T085920Z
UID:1640-1716026400-1716040800@taekwondocyl.com
SUMMARY:CURSO DE ARBITRAJE DE COMBATE- JUEZ CRONO- REGIONAL Y NACIONAL
DESCRIPTION:Fecha: 18 de mayo de 2024 \nLugar y Horario: CEAR Río Esgueva- Cº del Cementerio s/n- Valladolid – de 10 a 14 horas \nInscripciones: Se remitirán por correo electrónico a secretaria@taekwondocyl.com como último día el 09 de mayo.  \nNOTA: Todos los árbitros ya titulados\, que deseen reciclarse podrán asistir al curso; el reciclaje será gratuito para los que estén colegiados actualmente\, para los que no estén colegiados la cuota será de 25€
URL:https://taekwondocyl.com/evento/curso-de-arbitraje-de-combate-juez-crono-regional-y-nacional-2/
LOCATION:CEAR Río Esgueva\, Cº del Cementerio s/n\, VALLADOLID\, Valladolid\, España
CATEGORIES:Actividades
ATTACH;FMTTYPE=image/jpeg:https://taekwondocyl.com/wp-content/uploads/2022/11/ARBITRAJE-tkd-imagen-930x620-1.jpg
END:VEVENT
BEGIN:VEVENT
DTSTART;VALUE=DATE:20240511
DTEND;VALUE=DATE:20240512
DTSTAMP:20260422T171822
CREATED:20240430T092813Z
LAST-MODIFIED:20240430T092813Z
UID:1648-1715385600-1715471999@taekwondocyl.com
SUMMARY:CAMPEONATOS DE CASTILLA Y LEON JUNIOR E INFANTIL DE COMBATE
DESCRIPTION:FECHA: 11 de MAYO 2024 \nLUGAR: Polideportivo Municipal las Adoberas –  C. Ferial\, 7\, 40320 Cantalejo\, Segovia \nPESAJE: 08:30 horas en el pabellón \nCOMPETICIÓN: 09:15 h. El horario definitivo se comunicará una vez finalizada la fecha de inscripción\, que podrá variar según el número de participantes. \nINSCRIPCIONES: ON LINE a través de LEVERADE. Ultimo día de inscripción 06 de mayo a las 23.59h.
URL:https://taekwondocyl.com/evento/campeonatos-de-castilla-y-leon-junior-e-infantil-de-combate/
LOCATION:POLIDEPORTIVO LAS ADOBERAS\, CANTALEJO\, SEGOVIA\, España
CATEGORIES:Campeonatos
ATTACH;FMTTYPE=image/jpeg:https://taekwondocyl.com/wp-content/uploads/2024/04/CANTALEJO.jpg
END:VEVENT
BEGIN:VEVENT
DTSTART;VALUE=DATE:20240121
DTEND;VALUE=DATE:20240122
DTSTAMP:20260422T171822
CREATED:20240104T093524Z
LAST-MODIFIED:20240104T093748Z
UID:1605-1705795200-1705881599@taekwondocyl.com
SUMMARY:
DESCRIPTION:CAMPEONATO DE CASTILLA Y LEÓN ADULTO DE PUMSE: \nFECHA: DOMINGO\, 21 de enero de 2024\nHORARIO: de 10 a 12:30 horas.\nLUGAR: Polideportivo Municipal de Briviesca. Briviesca (BURGOS) \nCAMPEONATO DE CASTILLA Y LEÓN COMBATE SENIOR: \nFECHA: DOMINGO\, 21 de ENERO de 2024 \nHORARIO: De 16:00 h.  a 19:00 h. \nLUGAR: Polideportivo Municipal de Briviesca. Briviesca (BURGOS) \nPESAJE: de 12 a 13 horas
URL:https://taekwondocyl.com/evento/1605/
CATEGORIES:Campeonatos
ATTACH;FMTTYPE=image/jpeg:https://taekwondocyl.com/wp-content/uploads/2024/01/briviesca.jpg
END:VEVENT
BEGIN:VEVENT
DTSTART;VALUE=DATE:20231125
DTEND;VALUE=DATE:20231126
DTSTAMP:20260422T171822
CREATED:20230920T105512Z
LAST-MODIFIED:20230920T105512Z
UID:1481-1700870400-1700956799@taekwondocyl.com
SUMMARY:XXXVIII OPEN NACIONAL “CIUDAD DE MIRANDA DE EBRO"
DESCRIPTION:HORARIO:   09:30 a 20:00 horas \nUna vez finalizada la inscripción se detallarán los horarios de las categorías \nLUGAR:        Pabellón Multifuncional de Bayas (Adolfo Suarez) \nPESAJE:       VIERNES 24: de 19.00 a 21:00 en el Pabellón. \nSABADO 25: de 08:30 a 09:00 en el Pabellón. \n\nCIRCULAR OPEN DE MIRANDA DE EBRO \nCERTIFICADO TERRITORIAL \nINSCRIPCIONES \nPERMISO PATERNO CPTOS\n\n 
URL:https://taekwondocyl.com/evento/xxxviii-open-nacional-ciudad-de-miranda-de-ebro/
LOCATION:Pabellón Multifuncional de Bayas (Adolfo Suarez) miranda de ebro\, Pol. Ind. Bayas\, 29\, Miranda de Ebro\, Burgos\, 09200\, España
CATEGORIES:Campeonatos
ATTACH;FMTTYPE=image/jpeg:https://taekwondocyl.com/wp-content/uploads/2023/09/PHOTO-2023-09-19-11-15-04.jpg
END:VEVENT
BEGIN:VEVENT
DTSTART;TZID=Europe/Paris:20231118T100000
DTEND;TZID=Europe/Paris:20231118T140000
DTSTAMP:20260422T171822
CREATED:20231024T104717Z
LAST-MODIFIED:20231024T104717Z
UID:1525-1700301600-1700316000@taekwondocyl.com
SUMMARY:CURSO DE ARBITRAJE Y EXAMEN  DE JUEZ CRONOMETRADOR - ARBITRO REGIONAL Y ARBITRO NACIONAL
DESCRIPTION:Fecha: 18 de noviembre de 2023 \nLugar y Horario: CEAR Río Esgueva- Cº del Cementerio s/n- Valladolid – de 10 a 14 horas \nInscripciones: Se remitirán por correo electrónico a secretaria@taekwondocyl.com como último día el 08 de noviembre.  \nNOTA: Todos los árbitros ya titulados\, que deseen reciclarse podrán asistir al curso; el reciclaje será gratuito para los que estén colegiados actualmente\, para los que no estén colegiados la cuota será de 25€
URL:https://taekwondocyl.com/evento/curso-de-arbitraje-y-examen-de-juez-cronometrador-arbitro-regional-y-arbitro-nacional/
LOCATION:CEAR Río Esgueva\, Cº del Cementerio s/n\, VALLADOLID\, Valladolid\, España
CATEGORIES:Actividades
ATTACH;FMTTYPE=image/jpeg:https://taekwondocyl.com/wp-content/uploads/2022/11/ARBITRAJE-tkd-imagen-930x620-1.jpg
END:VEVENT
BEGIN:VEVENT
DTSTART;VALUE=DATE:20230610
DTEND;VALUE=DATE:20230611
DTSTAMP:20260422T171822
CREATED:20230522T080117Z
LAST-MODIFIED:20230605T103514Z
UID:1440-1686355200-1686441599@taekwondocyl.com
SUMMARY:CAMPEONATO DE CASTILLA Y LEÓN INFANTIL DE PUMSE -INFANTIL DE PROMOCIÓN -ADULTO DE PROMOCIÓN
DESCRIPTION:FECHA: 10 de Junio de 2023\nHORARIO: Inicio a las 9.30 h.\nLUGAR: Polideportivo Municipal de MOJADOS (Valladolid). INSCRIPCIONES: Por correo electrónico a: secretaria@taekwondocyl.com hasta el día 31 de mayo \n 
URL:https://taekwondocyl.com/evento/campeonato-de-castilla-y-leon-infantil-de-pumse/
CATEGORIES:Campeonatos
ATTACH;FMTTYPE=application/pdf:https://taekwondocyl.com/wp-content/uploads/2023/05/CARTEL-MOJADOS-2023.pdf
END:VEVENT
BEGIN:VEVENT
DTSTART;VALUE=DATE:20230603
DTEND;VALUE=DATE:20230604
DTSTAMP:20260422T171822
CREATED:20230517T083656Z
LAST-MODIFIED:20230517T083656Z
UID:1432-1685750400-1685836799@taekwondocyl.com
SUMMARY:EXAMEN DE CINTO NEGRO
DESCRIPTION:EXAMENES DE CINTURONES NEGROS  \n1er\, 2º\, 3º\, 4º y 5º DAN  –  1er\, 2º y 3º PUM \nFECHA: 03 de junio de 2023 \nLUGAR: VALLADOLID \nHORARIO: Inicio a las 16.00 horas. \nINSCRIPCIONES: Se remitirán por correo electrónico a secretaria@taekwondocyl.com\, como último día el 25 de mayo.
URL:https://taekwondocyl.com/evento/examen-de-cinto-negro/
CATEGORIES:Actividades
ATTACH;FMTTYPE=image/png:https://taekwondocyl.com/wp-content/uploads/2022/05/EXAMEN-CINTURON-NEGRO.png
END:VEVENT
BEGIN:VEVENT
DTSTART;VALUE=DATE:20230506
DTEND;VALUE=DATE:20230507
DTSTAMP:20260422T171822
CREATED:20230411T094652Z
LAST-MODIFIED:20230412T103555Z
UID:1404-1683331200-1683417599@taekwondocyl.com
SUMMARY:CURSO DE ARBITRAJE DE JUECES PUNTUADORES - JUEZ DE MESA - REGIONAL Y NACIONAL
DESCRIPTION:Fecha: 06 de mayo de 2023 \nLugar y Horario: CEAR Río Esgueva- Cº del Cementerio s/n- Valladolid – de 16 a 19 horas \nInscripciones: Se remitirán por correo electrónico a secretaria@taekwondocyl.com como último día el 26 de abril
URL:https://taekwondocyl.com/evento/curso-de-arbitraje-de-jueces-puntuadores-juez-de-mesa-regional-y-nacional/
CATEGORIES:Actividades
END:VEVENT
BEGIN:VEVENT
DTSTART;VALUE=DATE:20230506
DTEND;VALUE=DATE:20230507
DTSTAMP:20260422T171822
CREATED:20230411T095032Z
LAST-MODIFIED:20230412T103650Z
UID:1406-1683331200-1683417599@taekwondocyl.com
SUMMARY:CURSO DE ARBITRAJE DE COMBATE- JUEZ CRONO- REGIONAL Y NACIONAL
DESCRIPTION:Fecha: 06 de mayo de 2023 \nLugar y Horario: CEAR Río Esgueva- Cº del Cementerio s/n- Valladolid – de 10 a 14 horas \nInscripciones: Se remitirán por correo electrónico a secretaria@taekwondocyl.com como último día el 26 de abril
URL:https://taekwondocyl.com/evento/curso-de-arbitraje-de-combate-juez-crono-regional-y-nacional/
LOCATION:CEAR Río Esgueva\, Cº del Cementerio s/n\, VALLADOLID\, Valladolid\, España
CATEGORIES:Actividades
END:VEVENT
BEGIN:VEVENT
DTSTART;VALUE=DATE:20230422
DTEND;VALUE=DATE:20230423
DTSTAMP:20260422T171822
CREATED:20230411T095818Z
LAST-MODIFIED:20230412T103735Z
UID:1402-1682121600-1682207999@taekwondocyl.com
SUMMARY:CAMPEONATO DE CASTILLA Y LEON JUNIOR E INFANTIL DE COMBATE
DESCRIPTION:FECHA: 22 ABRIL 2023 \nLUGAR: PABELLÓN LA ROSALEDA C. Antonio Machado\, s/n\, 49600 Benavente\, Zamora \nPESAJE:08:30 horas en el pabellón \nCOMPETICIÓN: 09:00 h.
URL:https://taekwondocyl.com/evento/campeonato-de-castilla-y-leon-junior-e-infantil-de-combate/
LOCATION:Pabellón La Rosaleda\, C. Antonio Machado\, s/n\, Benavente\, Zamora\, 49600\, España
CATEGORIES:Campeonatos
END:VEVENT
BEGIN:VEVENT
DTSTART;VALUE=DATE:20230401
DTEND;VALUE=DATE:20230402
DTSTAMP:20260422T171822
CREATED:20230307T080437Z
LAST-MODIFIED:20230308T174133Z
UID:1345-1680307200-1680393599@taekwondocyl.com
SUMMARY:OPEN NACIONAL “CIUDAD DE CANTALEJO”
DESCRIPTION:FECHA: Sábado 01 de ABRIL de 2023 \nHORARIO:   09:30 a 20:00 horas \nUna vez finalizada la inscripción se detallarán los horarios de las categorías \nLUGAR:        Pabellón Municipal Las Adoberas – CANTALEJO (Segovia) \nPESAJE:       VIERNES 31 de 19.00 a 21:00 en el Pabellón. \nSABADO 01: de 08:30 a 09:00 en el Pabellón. \nINSCRIPCIONES: debidamente cumplimentadas\, se remitirán SOLAMENTE EN HOJA DE EXCEL sin escanear\, por correo electrónico a\, secretaria@taekwondocyl.com\, debiendo tener entrada como último día el 23 de marzo.
URL:https://taekwondocyl.com/evento/open-nacional-ciudad-de-cantalejo/
CATEGORIES:Campeonatos
ATTACH;FMTTYPE=image/jpeg:https://taekwondocyl.com/wp-content/uploads/2023/03/CANTALEJO-2023-BUENO-1.jpg
END:VEVENT
BEGIN:VEVENT
DTSTART;VALUE=DATE:20230311
DTEND;VALUE=DATE:20230312
DTSTAMP:20260422T171822
CREATED:20230213T121906Z
LAST-MODIFIED:20230213T121906Z
UID:1331-1678492800-1678579199@taekwondocyl.com
SUMMARY:CAMPEONATO DE CASTILLA Y LEÓN COMBATE CADETE E INFANTIL
DESCRIPTION:FECHA:         11 de Marzo de 2023 \nLUGAR:        Pabellón Vicente López –Avenida de Mayorga\, 15 – Valencia de Don Juan (León) https://maps.app.goo.gl/wafE9z1io9AxQnsP9?g_st=iw \nHORARIO:   CADETE: de 16:00 a 19:00 horas. \nPESAJE:       15:30 horas en el pabellón (los deportistas que lo deseen podrán pesarse de 09:30 a 10:00) \nHORARIO:   INFANTIL: de 10:00 a 14:00 horas. \nPESAJE:       09:30 a 10:00 horas en el pabellón. \n 
URL:https://taekwondocyl.com/evento/campeonato-de-castilla-y-leon-combate-cadete-e-infantil/
CATEGORIES:Campeonatos
ATTACH;FMTTYPE=image/jpeg:https://taekwondocyl.com/wp-content/uploads/2023/02/CARTEL-CAMPEONATO-CYL-CADETE2023-scaled.jpg
END:VEVENT
BEGIN:VEVENT
DTSTART;TZID=Europe/Paris:20230128T103000
DTEND;TZID=Europe/Paris:20230128T133000
DTSTAMP:20260422T171822
CREATED:20230111T113024Z
LAST-MODIFIED:20230111T113107Z
UID:1315-1674901800-1674912600@taekwondocyl.com
SUMMARY:CAMPEONATO DE CASTILLA Y LEÓN ADULTO DE PUMSE
DESCRIPTION:FECHA:   DOMINGO\, 29 de enero de 2023 \nHORARIO: de 09:30 a 12:30 \nLUGAR: Polideportivo Municipal Las Adoberas. Plaza Las Adoberas s/n. Cantalejo (SEGOVIA)
URL:https://taekwondocyl.com/evento/campeonato-de-castilla-y-leon-adulto-de-pumse/
CATEGORIES:Campeonatos
ATTACH;FMTTYPE=image/png:https://taekwondocyl.com/wp-content/uploads/2022/11/FEDERACION-TAEKWONDO_LOGO-NUEVO.png
END:VEVENT
BEGIN:VEVENT
DTSTART;VALUE=DATE:20230111
DTEND;VALUE=DATE:20230113
DTSTAMP:20260422T171822
CREATED:20230111T112205Z
LAST-MODIFIED:20230111T112205Z
UID:1310-1673398800-1673485199@taekwondocyl.com
SUMMARY:CAMPEONATO DE CASTILLA Y LEÓN COMBATE SENIOR
DESCRIPTION:FECHA: DOMINGO\, 29 de ENERO de 2023 \nHORARIO:   de 12:30 a 15:30 \nLUGAR:        Polideportivo Municipal Las Adoberas. Cantalejo (Segovia) \nPESAJE:       Se comunicará en tiempo y forma.  
URL:https://taekwondocyl.com/evento/campeonato-de-castilla-y-leon-combate-senior/
LOCATION:POLIDEPORTIVO LAS ADOBERAS\, CANTALEJO\, SEGOVIA\, España
CATEGORIES:Campeonatos
END:VEVENT
BEGIN:VEVENT
DTSTART;TZID=Europe/Paris:20221217T110000
DTEND;TZID=Europe/Paris:20221217T150000
DTSTAMP:20260422T171822
CREATED:20221115T080646Z
LAST-MODIFIED:20221115T081058Z
UID:1264-1671274800-1671289200@taekwondocyl.com
SUMMARY:SEMINARIO DE ACTUALIZACIÓN DE TÉCNICA Y PUMSE
DESCRIPTION:Dirigido a: \n\nDeportistas a partir de cinturón AZUL hasta 5º DAN\n\nINSCRIPCIONES: Se remitirán por correo electrónico a secretaria@taekwondocyl.com\, como último día el 5 de diciembre de 2022 \nMás información: \n  \n 
URL:https://taekwondocyl.com/evento/seminario-de-actualizacion-de-tecnica-y-pumse/
LOCATION:CEAR Río Esgueva\, Cº del Cementerio s/n\, VALLADOLID\, Valladolid\, España
CATEGORIES:Actividades
END:VEVENT
BEGIN:VEVENT
DTSTART;VALUE=DATE:20221210
DTEND;VALUE=DATE:20221212
DTSTAMP:20260422T171822
CREATED:20221115T080304Z
LAST-MODIFIED:20221115T080418Z
UID:1260-1670634000-1670720399@taekwondocyl.com
SUMMARY:CURSO DE ARBITRAJE DE COMBATE
DESCRIPTION:Inscripciones: Se remitirán por correo electrónico a secretaria@taekwondocyl.com como último día el 30 de noviembre.  \nNOTA: Todos los árbitros ya titulados\, que deseen reciclarse podrán asistir al curso; el reciclaje será gratuito para los que estén colegiados actualmente\, para los que no estén colegiados la cuota será de 20€ \nMás información.
URL:https://taekwondocyl.com/evento/curso-de-arbitraje-de-combate/
LOCATION:CEAR Río Esgueva\, Cº del Cementerio s/n\, VALLADOLID\, Valladolid\, España
CATEGORIES:Actividades
END:VEVENT
BEGIN:VEVENT
DTSTART;VALUE=DATE:20221119
DTEND;VALUE=DATE:20221121
DTSTAMP:20260422T171822
CREATED:20221123T113440Z
LAST-MODIFIED:20221124T112442Z
UID:1269-1668819600-1668905999@taekwondocyl.com
SUMMARY:SELECCIÓN DE CASTILLA Y LEÓN DE PUMSE -  OPEN DE AVILÉS
DESCRIPTION:El sábado 19 de NOVIEMBRE de 2022\, se celebró en Avilés el OPEN DE AVILÉS\, con la participación de la selección de Castilla y León Infantil y Adulto\, formada por 24 deportistas. \nResultados: \nCATEGORÍA INFANTIL: \nMedallas de Oro:\n\nLucia Alvarez (Cadete infantil)\nErika Rodriguez (Infantil)\n\nMedallas de Plata:\n\nMei Ling Duque (Infantil)\nMireia Uña (Alevín)\nIlyas Houkmi (Alevín)\n\nMedallas de Bronce:\n\nLola Alvarez (Alevín)\nMario Martín (Alevín)\n\nCATEGORÍA ADULTO:  \nMedallas de Oro:\n\nDiego Tejedor (Junior)\n\nMedallas de Plata:\n\nAna Mª González (Master1)\nSonia Redondo (Senior2)\nPAREJA JUNIOR: Diego Tejedor/Sara Villanueva\n\nMedallas de Bronce:\n\nSara Q. Villanueva (Junior)\nÓscar Fernandez (Master1)\nJesús Martínez (Master2)\nAngel Valdeón (Master3)\n\n  \n 
URL:https://taekwondocyl.com/evento/seleccion-de-castilla-y-leon-de-pumse-open-de-aviles/
CATEGORIES:Campeonatos
ATTACH;FMTTYPE=image/jpeg:https://taekwondocyl.com/wp-content/uploads/2022/11/EQUIPO.jpg
END:VEVENT
BEGIN:VEVENT
DTSTART;VALUE=DATE:20221015
DTEND;VALUE=DATE:20221017
DTSTAMP:20260422T171822
CREATED:20221011T082112Z
LAST-MODIFIED:20221011T082112Z
UID:1217-1665795600-1665881999@taekwondocyl.com
SUMMARY:ENTRENAMIENTO DE PUMSE DE COMPETICIÓN
DESCRIPTION:CATEGORIA INFANTIL DE 10 A 13 HORAS – Polideportivo Canterac\, Paseo de Juan Carlos I\, 16\, 47013 Valladolid \nCATEGORIA ADULTO DE 16 A 19 HORAS – CEAR Río Esgueva\, Cº del Cementerio s/n- Valladolid
URL:https://taekwondocyl.com/evento/entrenamiento-de-pumse-de-competicion-2/
CATEGORIES:Entrenamientos
END:VEVENT
BEGIN:VEVENT
DTSTART;TZID=Europe/Paris:20221008T103000
DTEND;TZID=Europe/Paris:20221008T210000
DTSTAMP:20260422T171822
CREATED:20220902T091026Z
LAST-MODIFIED:20220902T091754Z
UID:1162-1665225000-1665262800@taekwondocyl.com
SUMMARY:XXXVII OPEN NACIONAL “CIUDAD DE MIRANDA DE EBRO”
DESCRIPTION:FECHA: Sábado 8 de Octubre de 2022 \nHORARIO:   09:30 a 20:00 horas \nUna vez finalizada la inscripción se detallarán los horarios de las categorías. \nLUGAR:        Pabellón Multifuncional de Bayas (Adolfo Suarez) \nPESAJE:       VIERNES 7: de 19.00 a 21:00 en el Pabellón. \nSABADO 8: de 08:30 a 09:00 en el Pabellón. \n\nDocumentación: \n\nOPEN NACIONALCIUDAD DE MIRANDA DE EBRO-CIRCULAR\nInscripción todas las categorias\n01 certificado TERRITORIAL\n02 certificado CLUB\n03 permiso paterno\nListado alojamientos
URL:https://taekwondocyl.com/evento/xxxvii-open-nacional-ciudad-de-miranda-de-ebro/
LOCATION:Pabellón Multifuncional de Bayas (Adolfo Suarez)\, Pol. Ind. Bayas\, 29\, Miranda de Ebro\, Burgos\, 09200\, España
CATEGORIES:Campeonatos
END:VEVENT
END:VCALENDAR