BEGIN:VCALENDAR
VERSION:2.0
PRODID:-//Federación de Taekwondo y Hapkido de Castilla y León - ECPv6.15.19//NONSGML v1.0//EN
CALSCALE:GREGORIAN
METHOD:PUBLISH
X-WR-CALNAME:Federación de Taekwondo y Hapkido de Castilla y León
X-ORIGINAL-URL:https://taekwondocyl.com
X-WR-CALDESC:Eventos para Federación de Taekwondo y Hapkido de Castilla y León
REFRESH-INTERVAL;VALUE=DURATION:PT1H
X-Robots-Tag:noindex
X-PUBLISHED-TTL:PT1H
BEGIN:VTIMEZONE
TZID:Europe/Paris
BEGIN:DAYLIGHT
TZOFFSETFROM:+0100
TZOFFSETTO:+0200
TZNAME:CEST
DTSTART:20250330T010000
END:DAYLIGHT
BEGIN:STANDARD
TZOFFSETFROM:+0200
TZOFFSETTO:+0100
TZNAME:CET
DTSTART:20251026T010000
END:STANDARD
BEGIN:DAYLIGHT
TZOFFSETFROM:+0100
TZOFFSETTO:+0200
TZNAME:CEST
DTSTART:20260329T010000
END:DAYLIGHT
BEGIN:STANDARD
TZOFFSETFROM:+0200
TZOFFSETTO:+0100
TZNAME:CET
DTSTART:20261025T010000
END:STANDARD
BEGIN:DAYLIGHT
TZOFFSETFROM:+0100
TZOFFSETTO:+0200
TZNAME:CEST
DTSTART:20270328T010000
END:DAYLIGHT
BEGIN:STANDARD
TZOFFSETFROM:+0200
TZOFFSETTO:+0100
TZNAME:CET
DTSTART:20271031T010000
END:STANDARD
END:VTIMEZONE
BEGIN:VEVENT
DTSTART;VALUE=DATE:20260426
DTEND;VALUE=DATE:20260427
DTSTAMP:20260422T104141
CREATED:20260408T101838Z
LAST-MODIFIED:20260413T065356Z
UID:2025-1777161600-1777247999@taekwondocyl.com
SUMMARY:CAMPEONATO DE CASTILLA Y LEÓN SUB 21  Y CATEGORÍAS INFERIORES
DESCRIPTION:FECHA: Domingo 26 de ABRIL 2026 \nLUGAR: Polideportivo Cubierto Laguna – Avda Las Salinas\, 3 – 47140 Laguna de Duero – VALLADOLID \nPESAJE: De 09:00 a 9:30 horas en el pabellón \nCOMPETICIÓN: 10:00 h. Una vez finalizada la inscripción se detallarán los horarios de las categorías y sorteos. \nINSCRIPCIONES: ON LINE a través de CLUPIK \nCATEGORÍA SUB 21 \nEDAD: Deportistas nacidos en los años 2005 – 2006 – 2007 – 2008 – 2009  \nGRADO MINIMO: Cinturón AZUL. \nCATEGORIA CADETE: \nEDAD: Deportistas nacidos en los años 2012-2013-2014 \nGRADO MINIMO: Cinturón AMARILLO. \nCATEGORIA PRECADETE A \nEDAD: Deportistas nacidos en los años 2017-2018 \nGRADO: AMARILLO      \nCATEGORIA PRECADETE B \nEDAD: Deportistas nacidos en los años 2015-2016 \nGRADO: AMARILLO              
URL:https://taekwondocyl.com/evento/campeonato-de-castilla-y-leon-sub-21-y-categorias-inferiores/
CATEGORIES:Campeonatos
END:VEVENT
BEGIN:VEVENT
DTSTART;TZID=Europe/Paris:20260509T160000
DTEND;TZID=Europe/Paris:20260509T200000
DTSTAMP:20260422T104141
CREATED:20260415T071633Z
LAST-MODIFIED:20260415T071633Z
UID:2033-1778342400-1778356800@taekwondocyl.com
SUMMARY:SEMINARIO DE ACTUALIZACIÓN DE TÉCNICA FUNDAMENTAL Y PUMSE HASTA 7º DAN
DESCRIPTION:Dirigido a deportistas a partir de cinturón AZUL\n\nFECHA: 09 de mayo de 2026 \nHORARIO: De 16 a 20 horas \nLUGAR: CEAR Río Esgueva- Cº del Cementerio s/n- Valladolid \nINSCRIPCIONES: Se remitirán por correo electrónico a secretaria@taekwondocyl.com\, como último día el 30 de abril de 2026.
URL:https://taekwondocyl.com/evento/seminario-de-actualizacion-de-tecnica-fundamental-y-pumse-hasta-7o-dan-2/
CATEGORIES:Actividades
END:VEVENT
END:VCALENDAR